BEGIN:VCALENDAR
VERSION:2.0
PRODID:icalendar-ruby
CALSCALE:GREGORIAN
METHOD:PUBLISH
BEGIN:VEVENT
DTSTAMP:20260423T175310Z
UID:6-581231@providencereformed.org
DTSTART:20261101T141500Z
DTEND:20261101T154500Z
CLASS:PUBLIC
CREATED:20260423T132834
DESCRIPTION:
LAST-MODIFIED:20260423T132834
LOCATION:
SUMMARY:Sunday Worship - AM
URL;VALUE=URI:https://www.providencereformed.org/events/sunday-worship-am/2
 026-11-01
END:VEVENT
END:VCALENDAR
