BEGIN:VCALENDAR
VERSION:2.0
PRODID:icalendar-ruby
CALSCALE:GREGORIAN
METHOD:PUBLISH
BEGIN:VEVENT
DTSTAMP:20260423T162011Z
UID:6-580815@providencereformed.org
DTSTART:20261025T131500Z
DTEND:20261025T144500Z
CLASS:PUBLIC
CREATED:20260423T103323
DESCRIPTION:
LAST-MODIFIED:20260423T103323
LOCATION:
SUMMARY:Sunday Worship - AM
URL;VALUE=URI:https://www.providencereformed.org/events/sunday-worship-am/2
 026-10-25
END:VEVENT
END:VCALENDAR
