BEGIN:VCALENDAR
VERSION:2.0
PRODID:icalendar-ruby
CALSCALE:GREGORIAN
METHOD:PUBLISH
BEGIN:VEVENT
DTSTAMP:20260423T133013Z
UID:6-580398@providencereformed.org
DTSTART:20261011T131500Z
DTEND:20261011T144500Z
CLASS:PUBLIC
CREATED:20260423T073947
DESCRIPTION:
LAST-MODIFIED:20260423T073947
LOCATION:
SUMMARY:Sunday Worship - AM
URL;VALUE=URI:https://www.providencereformed.org/events/sunday-worship-am/2
 026-10-11
END:VEVENT
END:VCALENDAR
