BEGIN:VCALENDAR
VERSION:2.0
PRODID:icalendar-ruby
CALSCALE:GREGORIAN
METHOD:PUBLISH
BEGIN:VEVENT
DTSTAMP:20260423T120804Z
UID:6-580397@providencereformed.org
DTSTART:20261004T131500Z
DTEND:20261004T144500Z
CLASS:PUBLIC
CREATED:20260423T073947
DESCRIPTION:
LAST-MODIFIED:20260423T073947
LOCATION:
SUMMARY:Sunday Worship - AM
URL;VALUE=URI:https://www.providencereformed.org/events/sunday-worship-am/2
 026-10-04
END:VEVENT
END:VCALENDAR
