BEGIN:VCALENDAR
VERSION:2.0
PRODID:icalendar-ruby
CALSCALE:GREGORIAN
METHOD:PUBLISH
BEGIN:VEVENT
DTSTAMP:20260423T104114Z
UID:6-579981@providencereformed.org
DTSTART:20260927T131500Z
DTEND:20260927T144500Z
CLASS:PUBLIC
CREATED:20260422T221001
DESCRIPTION:
LAST-MODIFIED:20260422T221001
LOCATION:
SUMMARY:Sunday Worship - AM
URL;VALUE=URI:https://www.providencereformed.org/events/sunday-worship-am/2
 026-09-27
END:VEVENT
END:VCALENDAR
