BEGIN:VCALENDAR
VERSION:2.0
PRODID:icalendar-ruby
CALSCALE:GREGORIAN
METHOD:PUBLISH
BEGIN:VEVENT
DTSTAMP:20260423T014421Z
UID:6-579560@providencereformed.org
DTSTART:20260816T131500Z
DTEND:20260816T144500Z
CLASS:PUBLIC
CREATED:20260422T191658
DESCRIPTION:
LAST-MODIFIED:20260422T191658
LOCATION:
SUMMARY:Sunday Worship - AM
URL;VALUE=URI:https://www.providencereformed.org/events/sunday-worship-am/2
 026-08-16
END:VEVENT
END:VCALENDAR
